BEGIN:VCALENDAR
VERSION:2.0
PRODID:-//Be Fast Triatlon Club - ECPv6.15.20//NONSGML v1.0//EN
CALSCALE:GREGORIAN
METHOD:PUBLISH
X-ORIGINAL-URL:https://be-fast.be
X-WR-CALDESC:Events for Be Fast Triatlon Club
REFRESH-INTERVAL;VALUE=DURATION:PT1H
X-Robots-Tag:noindex
X-PUBLISHED-TTL:PT1H
BEGIN:VTIMEZONE
TZID:Europe/Brussels
BEGIN:DAYLIGHT
TZOFFSETFROM:+0100
TZOFFSETTO:+0200
TZNAME:CEST
DTSTART:20240331T010000
END:DAYLIGHT
BEGIN:STANDARD
TZOFFSETFROM:+0200
TZOFFSETTO:+0100
TZNAME:CET
DTSTART:20241027T010000
END:STANDARD
BEGIN:DAYLIGHT
TZOFFSETFROM:+0100
TZOFFSETTO:+0200
TZNAME:CEST
DTSTART:20250330T010000
END:DAYLIGHT
BEGIN:STANDARD
TZOFFSETFROM:+0200
TZOFFSETTO:+0100
TZNAME:CET
DTSTART:20251026T010000
END:STANDARD
BEGIN:DAYLIGHT
TZOFFSETFROM:+0100
TZOFFSETTO:+0200
TZNAME:CEST
DTSTART:20260329T010000
END:DAYLIGHT
BEGIN:STANDARD
TZOFFSETFROM:+0200
TZOFFSETTO:+0100
TZNAME:CET
DTSTART:20261025T010000
END:STANDARD
END:VTIMEZONE
BEGIN:VEVENT
DTSTART;VALUE=DATE:20251005
DTEND;VALUE=DATE:20251006
DTSTAMP:20260424T133843
CREATED:20250203T145938Z
LAST-MODIFIED:20250203T145938Z
UID:1984-1759622400-1759708799@be-fast.be
SUMMARY:Ironman Barcelona
DESCRIPTION:Ann
URL:https://be-fast.be/event/ironman-barcelona/
CATEGORIES:Full Distance Triatlon
END:VEVENT
BEGIN:VEVENT
DTSTART;VALUE=DATE:20251005
DTEND;VALUE=DATE:20251006
DTSTAMP:20260424T133843
CREATED:20250929T124526Z
LAST-MODIFIED:20250929T124526Z
UID:2291-1759622400-1759708799@be-fast.be
SUMMARY:Duatlon Bellegem
DESCRIPTION:Guy W
URL:https://be-fast.be/event/duatlon-bellegem/
CATEGORIES:Duatlon
END:VEVENT
BEGIN:VEVENT
DTSTART;VALUE=DATE:20251012
DTEND;VALUE=DATE:20251013
DTSTAMP:20260424T133843
CREATED:20250805T141601Z
LAST-MODIFIED:20250805T141601Z
UID:2245-1760227200-1760313599@be-fast.be
SUMMARY:Crossduatlon Geel
DESCRIPTION:Guy W
URL:https://be-fast.be/event/crossduatlon-geel/
CATEGORIES:Duatlon
END:VEVENT
BEGIN:VEVENT
DTSTART;VALUE=DATE:20251018
DTEND;VALUE=DATE:20251019
DTSTAMP:20260424T133843
CREATED:20251013T102735Z
LAST-MODIFIED:20251013T102735Z
UID:2319-1760745600-1760831999@be-fast.be
SUMMARY:Cascais Ironman 70.3
DESCRIPTION:Birger\, Dani\, Marek
URL:https://be-fast.be/event/cascais-ironman-70-3/
CATEGORIES:Half distance triathlon
END:VEVENT
BEGIN:VEVENT
DTSTART;VALUE=DATE:20251019
DTEND;VALUE=DATE:20251020
DTSTAMP:20260424T133843
CREATED:20250203T145804Z
LAST-MODIFIED:20251016T121032Z
UID:1981-1760832000-1760918399@be-fast.be
SUMMARY:Antwerp Marathon
DESCRIPTION:Guy\, Ivan\, Lisa\, Joeri P\, Kjell\, Patje\, Dennis\, Bram P\, Thomas T
URL:https://be-fast.be/event/antwerp-marathon/
CATEGORIES:Stratenloop
END:VEVENT
END:VCALENDAR