BEGIN:VCALENDAR
VERSION:2.0
PRODID:-//Be Fast Triatlon Club - ECPv6.15.20//NONSGML v1.0//EN
CALSCALE:GREGORIAN
METHOD:PUBLISH
X-ORIGINAL-URL:https://be-fast.be
X-WR-CALDESC:Events for Be Fast Triatlon Club
REFRESH-INTERVAL;VALUE=DURATION:PT1H
X-Robots-Tag:noindex
X-PUBLISHED-TTL:PT1H
BEGIN:VTIMEZONE
TZID:Europe/Brussels
BEGIN:DAYLIGHT
TZOFFSETFROM:+0100
TZOFFSETTO:+0200
TZNAME:CEST
DTSTART:20240331T010000
END:DAYLIGHT
BEGIN:STANDARD
TZOFFSETFROM:+0200
TZOFFSETTO:+0100
TZNAME:CET
DTSTART:20241027T010000
END:STANDARD
BEGIN:DAYLIGHT
TZOFFSETFROM:+0100
TZOFFSETTO:+0200
TZNAME:CEST
DTSTART:20250330T010000
END:DAYLIGHT
BEGIN:STANDARD
TZOFFSETFROM:+0200
TZOFFSETTO:+0100
TZNAME:CET
DTSTART:20251026T010000
END:STANDARD
BEGIN:DAYLIGHT
TZOFFSETFROM:+0100
TZOFFSETTO:+0200
TZNAME:CEST
DTSTART:20260329T010000
END:DAYLIGHT
BEGIN:STANDARD
TZOFFSETFROM:+0200
TZOFFSETTO:+0100
TZNAME:CET
DTSTART:20261025T010000
END:STANDARD
END:VTIMEZONE
BEGIN:VEVENT
DTSTART;VALUE=DATE:20250906
DTEND;VALUE=DATE:20250907
DTSTAMP:20260424T123549
CREATED:20250628T123243Z
LAST-MODIFIED:20250814T152120Z
UID:2221-1757116800-1757203199@be-fast.be
SUMMARY:Ironman Knokke Heist
DESCRIPTION:Kelly W (5i50)\nBram P (5i50)\nCraig S (5i50)\nSara B (5i50 Relay)\nDiederik L (70.3)
URL:https://be-fast.be/event/5i50-knokke-heist/
CATEGORIES:Half distance triathlon,Kwart Triatlon
END:VEVENT
BEGIN:VEVENT
DTSTART;VALUE=DATE:20250913
DTEND;VALUE=DATE:20250914
DTSTAMP:20260424T123549
CREATED:20250130T170501Z
LAST-MODIFIED:20250821T144235Z
UID:1913-1757721600-1757807999@be-fast.be
SUMMARY:Challenge Almere-Amsterdam / Holland Triathlon
DESCRIPTION:Rene\,\nJoeri\,\nKjell\,\nIvan\,\nPatje
URL:https://be-fast.be/event/challenge-almere-amsterdam-holland-triathlon/
CATEGORIES:Half distance triathlon,Wedstrijden
ORGANIZER;CN="Challenge":MAILTO:info@challenge-almere.com
END:VEVENT
BEGIN:VEVENT
DTSTART;VALUE=DATE:20250926
DTEND;VALUE=DATE:20250929
DTSTAMP:20260424T123549
CREATED:20250619T083714Z
LAST-MODIFIED:20250814T111218Z
UID:2201-1758844800-1759103999@be-fast.be
SUMMARY:Long Course Weekend
DESCRIPTION:Sara B (Half)\nWim B (Half)\nRonny T (Full)
URL:https://be-fast.be/event/long-course-weekend/
CATEGORIES:Full Distance Triatlon,Half distance triathlon
END:VEVENT
END:VCALENDAR