BEGIN:VCALENDAR
VERSION:2.0
PRODID:-//Be Fast Triatlon Club - ECPv6.15.20//NONSGML v1.0//EN
CALSCALE:GREGORIAN
METHOD:PUBLISH
X-ORIGINAL-URL:https://be-fast.be
X-WR-CALDESC:Events for Be Fast Triatlon Club
REFRESH-INTERVAL;VALUE=DURATION:PT1H
X-Robots-Tag:noindex
X-PUBLISHED-TTL:PT1H
BEGIN:VTIMEZONE
TZID:Europe/Brussels
BEGIN:DAYLIGHT
TZOFFSETFROM:+0100
TZOFFSETTO:+0200
TZNAME:CEST
DTSTART:20240331T010000
END:DAYLIGHT
BEGIN:STANDARD
TZOFFSETFROM:+0200
TZOFFSETTO:+0100
TZNAME:CET
DTSTART:20241027T010000
END:STANDARD
BEGIN:DAYLIGHT
TZOFFSETFROM:+0100
TZOFFSETTO:+0200
TZNAME:CEST
DTSTART:20250330T010000
END:DAYLIGHT
BEGIN:STANDARD
TZOFFSETFROM:+0200
TZOFFSETTO:+0100
TZNAME:CET
DTSTART:20251026T010000
END:STANDARD
BEGIN:DAYLIGHT
TZOFFSETFROM:+0100
TZOFFSETTO:+0200
TZNAME:CEST
DTSTART:20260329T010000
END:DAYLIGHT
BEGIN:STANDARD
TZOFFSETFROM:+0200
TZOFFSETTO:+0100
TZNAME:CET
DTSTART:20261025T010000
END:STANDARD
BEGIN:DAYLIGHT
TZOFFSETFROM:+0100
TZOFFSETTO:+0200
TZNAME:CEST
DTSTART:20270328T010000
END:DAYLIGHT
BEGIN:STANDARD
TZOFFSETFROM:+0200
TZOFFSETTO:+0100
TZNAME:CET
DTSTART:20271031T010000
END:STANDARD
END:VTIMEZONE
BEGIN:VEVENT
DTSTART;VALUE=DATE:20260412
DTEND;VALUE=DATE:20260413
DTSTAMP:20260424T055836
CREATED:20251023T195640Z
LAST-MODIFIED:20251023T195640Z
UID:2360-1775952000-1776038399@be-fast.be
SUMMARY:Rotterdam Marathon
DESCRIPTION:Daniel Rodrigues das Neves
URL:https://be-fast.be/event/rotterdam-marathon/
CATEGORIES:Marathon
END:VEVENT
BEGIN:VEVENT
DTSTART;VALUE=DATE:20251102
DTEND;VALUE=DATE:20251103
DTSTAMP:20260424T055836
CREATED:20251028T142609Z
LAST-MODIFIED:20251028T142609Z
UID:2370-1762041600-1762127999@be-fast.be
SUMMARY:Brussels Airport Marathon
DESCRIPTION:Thomas T
URL:https://be-fast.be/event/brussels-airport-marathon/
CATEGORIES:Marathon
END:VEVENT
BEGIN:VEVENT
DTSTART;VALUE=DATE:20250413
DTEND;VALUE=DATE:20250415
DTSTAMP:20260424T055836
CREATED:20250312T120708Z
LAST-MODIFIED:20250312T120708Z
UID:2057-1744502400-1744675199@be-fast.be
SUMMARY:European Running Championships
DESCRIPTION:Guy W\, Stefan
URL:https://be-fast.be/event/european-running-championships/
CATEGORIES:Halve Marathon,Marathon,Stratenloop
END:VEVENT
BEGIN:VEVENT
DTSTART;VALUE=DATE:20250330
DTEND;VALUE=DATE:20250331
DTSTAMP:20260424T055836
CREATED:20250312T120442Z
LAST-MODIFIED:20250312T120505Z
UID:2054-1743292800-1743379199@be-fast.be
SUMMARY:Sofico Gent Marathon
DESCRIPTION:Guy W
URL:https://be-fast.be/event/sofico-gent-marathon/
CATEGORIES:Halve Marathon,Marathon
END:VEVENT
END:VCALENDAR