BEGIN:VCALENDAR
VERSION:2.0
PRODID:-//Be Fast Triatlon Club - ECPv6.15.20//NONSGML v1.0//EN
CALSCALE:GREGORIAN
METHOD:PUBLISH
X-ORIGINAL-URL:https://be-fast.be
X-WR-CALDESC:Events for Be Fast Triatlon Club
REFRESH-INTERVAL;VALUE=DURATION:PT1H
X-Robots-Tag:noindex
X-PUBLISHED-TTL:PT1H
BEGIN:VTIMEZONE
TZID:Europe/Brussels
BEGIN:DAYLIGHT
TZOFFSETFROM:+0100
TZOFFSETTO:+0200
TZNAME:CEST
DTSTART:20240331T010000
END:DAYLIGHT
BEGIN:STANDARD
TZOFFSETFROM:+0200
TZOFFSETTO:+0100
TZNAME:CET
DTSTART:20241027T010000
END:STANDARD
BEGIN:DAYLIGHT
TZOFFSETFROM:+0100
TZOFFSETTO:+0200
TZNAME:CEST
DTSTART:20250330T010000
END:DAYLIGHT
BEGIN:STANDARD
TZOFFSETFROM:+0200
TZOFFSETTO:+0100
TZNAME:CET
DTSTART:20251026T010000
END:STANDARD
BEGIN:DAYLIGHT
TZOFFSETFROM:+0100
TZOFFSETTO:+0200
TZNAME:CEST
DTSTART:20260329T010000
END:DAYLIGHT
BEGIN:STANDARD
TZOFFSETFROM:+0200
TZOFFSETTO:+0100
TZNAME:CET
DTSTART:20261025T010000
END:STANDARD
END:VTIMEZONE
BEGIN:VEVENT
DTSTART;VALUE=DATE:20250824
DTEND;VALUE=DATE:20250825
DTSTAMP:20260424T103020
CREATED:20250312T124203Z
LAST-MODIFIED:20250315T171442Z
UID:2096-1755993600-1756079999@be-fast.be
SUMMARY:CITY TRIATHLON DEINZE
DESCRIPTION:Guy W
URL:https://be-fast.be/event/2096/
CATEGORIES:Kwart Triatlon,Sprint Triatlon
END:VEVENT
BEGIN:VEVENT
DTSTART;VALUE=DATE:20250817
DTEND;VALUE=DATE:20250818
DTSTAMP:20260424T103020
CREATED:20250625T160157Z
LAST-MODIFIED:20250625T160157Z
UID:2210-1755388800-1755475199@be-fast.be
SUMMARY:BK Gravel
DESCRIPTION:Senne
URL:https://be-fast.be/event/bk-gravel/
CATEGORIES:Gravel Ride
END:VEVENT
BEGIN:VEVENT
DTSTART;VALUE=DATE:20250817
DTEND;VALUE=DATE:20250818
DTSTAMP:20260424T103020
CREATED:20250619T073732Z
LAST-MODIFIED:20250619T073732Z
UID:2196-1755388800-1755475199@be-fast.be
SUMMARY:Ironman Copenhagen
DESCRIPTION:Ortwin
URL:https://be-fast.be/event/ironman-copenhagen/
CATEGORIES:Full Distance Triatlon
END:VEVENT
BEGIN:VEVENT
DTSTART;VALUE=DATE:20250817
DTEND;VALUE=DATE:20250818
DTSTAMP:20260424T103020
CREATED:20250312T124043Z
LAST-MODIFIED:20250312T124043Z
UID:2094-1755388800-1755475199@be-fast.be
SUMMARY:Steratlon Sint-Niklaas
DESCRIPTION:Guy W
URL:https://be-fast.be/event/steratlon-sint-niklaas/
CATEGORIES:Kwart Triatlon,Sprint Triatlon
END:VEVENT
BEGIN:VEVENT
DTSTART;VALUE=DATE:20250816
DTEND;VALUE=DATE:20250817
DTSTAMP:20260424T103020
CREATED:20250814T110555Z
LAST-MODIFIED:20250814T110555Z
UID:2273-1755302400-1755388799@be-fast.be
SUMMARY:Crossduatlon Buul
DESCRIPTION:Guy W (3km/20km/3km )
URL:https://be-fast.be/event/crossduatlon-buul/
CATEGORIES:Duatlon
END:VEVENT
BEGIN:VEVENT
DTSTART;VALUE=DATE:20250815
DTEND;VALUE=DATE:20250816
DTSTAMP:20260424T103020
CREATED:20250814T110722Z
LAST-MODIFIED:20250814T110722Z
UID:2276-1755216000-1755302399@be-fast.be
SUMMARY:Trailrun Lilse Bergen
DESCRIPTION:Guy W 15k
URL:https://be-fast.be/event/trailrun-lilse-bergen/
CATEGORIES:Trail
END:VEVENT
BEGIN:VEVENT
DTSTART;VALUE=DATE:20250811
DTEND;VALUE=DATE:20250812
DTSTAMP:20260424T103020
CREATED:20250312T123747Z
LAST-MODIFIED:20250315T171620Z
UID:2092-1754870400-1754956799@be-fast.be
SUMMARY:LA GILEPPE TROPHY
DESCRIPTION:Guy W
URL:https://be-fast.be/event/2092/
CATEGORIES:Kwart Triatlon,Sprint Triatlon
END:VEVENT
BEGIN:VEVENT
DTSTART;VALUE=DATE:20250810
DTEND;VALUE=DATE:20250811
DTSTAMP:20260424T103020
CREATED:20250805T142412Z
LAST-MODIFIED:20250805T142412Z
UID:2263-1754784000-1754870399@be-fast.be
SUMMARY:Hoeks Triatlon Lommel
DESCRIPTION:Bram P
URL:https://be-fast.be/event/hoeks-triatlon-lommel/
CATEGORIES:Kwart Triatlon
END:VEVENT
BEGIN:VEVENT
DTSTART;VALUE=DATE:20250809
DTEND;VALUE=DATE:20250810
DTSTAMP:20260424T103020
CREATED:20250627T073007Z
LAST-MODIFIED:20250627T122953Z
UID:2214-1754697600-1754783999@be-fast.be
SUMMARY:Sterke Peer
DESCRIPTION:Ellen K\nKelly W
URL:https://be-fast.be/event/sterke-peer/
CATEGORIES:Sprint Triatlon
END:VEVENT
BEGIN:VEVENT
DTSTART;VALUE=DATE:20250809
DTEND;VALUE=DATE:20250810
DTSTAMP:20260424T103020
CREATED:20250610T144623Z
LAST-MODIFIED:20250806T131502Z
UID:2171-1754697600-1754783999@be-fast.be
SUMMARY:XTERRA Ardennes cross triatlon
DESCRIPTION:Guy W\nCraig S
URL:https://be-fast.be/event/xterra-ardennes-cross-triatlon/
CATEGORIES:Kwart Triatlon
END:VEVENT
BEGIN:VEVENT
DTSTART;VALUE=DATE:20250808
DTEND;VALUE=DATE:20250809
DTSTAMP:20260424T103020
CREATED:20250805T141313Z
LAST-MODIFIED:20250805T141313Z
UID:2239-1754611200-1754697599@be-fast.be
SUMMARY:La Gileppe Trophy jogging 7.5km
DESCRIPTION:Guy W
URL:https://be-fast.be/event/la-gileppe-trophy-jogging-7-5km/
CATEGORIES:Stratenloop
END:VEVENT
BEGIN:VEVENT
DTSTART;VALUE=DATE:20250803
DTEND;VALUE=DATE:20250804
DTSTAMP:20260424T103020
CREATED:20250512T063753Z
LAST-MODIFIED:20250617T121521Z
UID:2155-1754179200-1754265599@be-fast.be
SUMMARY:Triatlon Jabbeke
DESCRIPTION:Daniel Rodrigues das Neves (kwart)\nGuy W (Kwart)
URL:https://be-fast.be/event/triatlon-jabbeke/
CATEGORIES:Kwart Triatlon,Sprint Triatlon
END:VEVENT
BEGIN:VEVENT
DTSTART;VALUE=DATE:20250802
DTEND;VALUE=DATE:20250803
DTSTAMP:20260424T103020
CREATED:20250312T123536Z
LAST-MODIFIED:20250709T065329Z
UID:2089-1754092800-1754179199@be-fast.be
SUMMARY:Triatlon De Bres (Rijkevorsel)
DESCRIPTION:Guy W\nWim B
URL:https://be-fast.be/event/triatlon-de-bres-rijkevorsel/
CATEGORIES:Kwart Triatlon,Sprint Triatlon
END:VEVENT
BEGIN:VEVENT
DTSTART;VALUE=DATE:20250726
DTEND;VALUE=DATE:20250728
DTSTAMP:20260424T103020
CREATED:20250312T115513Z
LAST-MODIFIED:20250706T145411Z
UID:2042-1753488000-1753660799@be-fast.be
SUMMARY:The Cave Triathlon
DESCRIPTION:Joris L\nDavid C (eerste keer een halve!)
URL:https://be-fast.be/event/the-cave-triathlon/
CATEGORIES:Half distance triathlon,Sprint Triatlon
END:VEVENT
BEGIN:VEVENT
DTSTART;VALUE=DATE:20250721
DTEND;VALUE=DATE:20250722
DTSTAMP:20260424T103020
CREATED:20250203T135218Z
LAST-MODIFIED:20250610T150443Z
UID:1957-1753056000-1753142399@be-fast.be
SUMMARY:Kwarttriatlon Kapelle-Op-Den-Bos
DESCRIPTION:Rene D
URL:https://be-fast.be/event/kwarttriatlon-kapelle-op-den-bos/
CATEGORIES:Kwart Triatlon
END:VEVENT
BEGIN:VEVENT
DTSTART;VALUE=DATE:20250720
DTEND;VALUE=DATE:20250721
DTSTAMP:20260424T103020
CREATED:20250610T144836Z
LAST-MODIFIED:20250610T144836Z
UID:2173-1752969600-1753055999@be-fast.be
SUMMARY:Triatlon Aarschot 1/3
DESCRIPTION:Guy W
URL:https://be-fast.be/event/triatlon-aarschot-1-3/
CATEGORIES:Kwart Triatlon
END:VEVENT
BEGIN:VEVENT
DTSTART;VALUE=DATE:20250706
DTEND;VALUE=DATE:20250707
DTSTAMP:20260424T103020
CREATED:20250312T105014Z
LAST-MODIFIED:20250625T082123Z
UID:2034-1751760000-1751846399@be-fast.be
SUMMARY:Triatlon van Vlaanderen - Oudenaarde
DESCRIPTION:Triatlon van Vlaanderen is uitgegroeid tot één van de mooiste wedstrijden van Vlaanderen\, volledig georganiseerd door vrijwilligers. Internationale toppers zoals Bart Aernouts en Alexandra Tondeur rekenen dit tot de mooiste wedstrijden waaraan ze deelnamen. \nAnn V.\nCraig S.
URL:https://be-fast.be/event/triatlon-van-vlaanderen-oudenaarde/
CATEGORIES:Duatlon,Kwart Triatlon,Sprint Triatlon
END:VEVENT
BEGIN:VEVENT
DTSTART;TZID=Europe/Brussels:20250705T080000
DTEND;TZID=Europe/Brussels:20250705T170000
DTSTAMP:20260424T103020
CREATED:20250610T145020Z
LAST-MODIFIED:20250627T072642Z
UID:2176-1751702400-1751734800@be-fast.be
SUMMARY:BIRatlon 1/8 triatlon
DESCRIPTION:Guy W\nEllen K
URL:https://be-fast.be/event/biratlon-1-8-triatlon/
CATEGORIES:Kwart Triatlon
END:VEVENT
BEGIN:VEVENT
DTSTART;VALUE=DATE:20250705
DTEND;VALUE=DATE:20250706
DTSTAMP:20260424T103020
CREATED:20250622T082008Z
LAST-MODIFIED:20250622T082008Z
UID:2204-1751673600-1751759999@be-fast.be
SUMMARY:Rockman Swimrun
DESCRIPTION:Birgit (41km)
URL:https://be-fast.be/event/rockman-swimrun/
CATEGORIES:Swimrun
END:VEVENT
BEGIN:VEVENT
DTSTART;VALUE=DATE:20250705
DTEND;VALUE=DATE:20250706
DTSTAMP:20260424T103020
CREATED:20250209T100851Z
LAST-MODIFIED:20250315T171904Z
UID:2011-1751673600-1751759999@be-fast.be
SUMMARY:Swimrun Sure to Sure
DESCRIPTION:24.4km\nMarc en Conny\n10.3\nBianca en Bernard: Sarah en Carl
URL:https://be-fast.be/event/swimrun-sure-to-sure/
CATEGORIES:Swimrun
END:VEVENT
BEGIN:VEVENT
DTSTART;VALUE=DATE:20250629
DTEND;VALUE=DATE:20250630
DTSTAMP:20260424T103020
CREATED:20250619T073357Z
LAST-MODIFIED:20250619T073357Z
UID:2190-1751155200-1751241599@be-fast.be
SUMMARY:Chtriman 113 - Gravelines
DESCRIPTION:Stijn Verpoest
URL:https://be-fast.be/event/chtriman-113-gravelines/
CATEGORIES:Half distance triathlon
END:VEVENT
BEGIN:VEVENT
DTSTART;VALUE=DATE:20250628
DTEND;VALUE=DATE:20250629
DTSTAMP:20260424T103020
CREATED:20250312T123415Z
LAST-MODIFIED:20250312T123415Z
UID:2087-1751068800-1751155199@be-fast.be
SUMMARY:Triatlon Het Groene Woud (Oirschot NL)
DESCRIPTION:Guy W
URL:https://be-fast.be/event/triatlon-het-groene-woud-oirschot-nl/
CATEGORIES:Kwart Triatlon,Sprint Triatlon
END:VEVENT
BEGIN:VEVENT
DTSTART;VALUE=DATE:20250622
DTEND;VALUE=DATE:20250623
DTSTAMP:20260424T103020
CREATED:20250619T083443Z
LAST-MODIFIED:20250619T083443Z
UID:2198-1750550400-1750636799@be-fast.be
SUMMARY:Open lakes champagne
DESCRIPTION:Sara Bertels
URL:https://be-fast.be/event/open-lakes-champagne/
CATEGORIES:Kwart Triatlon
END:VEVENT
BEGIN:VEVENT
DTSTART;VALUE=DATE:20250622
DTEND;VALUE=DATE:20250623
DTSTAMP:20260424T103020
CREATED:20250312T123228Z
LAST-MODIFIED:20250312T123228Z
UID:2084-1750550400-1750636799@be-fast.be
SUMMARY:Hazentriathlon
DESCRIPTION:Guy W
URL:https://be-fast.be/event/hazentriathlon/
CATEGORIES:Sprint Triatlon
END:VEVENT
BEGIN:VEVENT
DTSTART;VALUE=DATE:20250621
DTEND;VALUE=DATE:20250622
DTSTAMP:20260424T103020
CREATED:20250315T170121Z
LAST-MODIFIED:20250315T170121Z
UID:2120-1750464000-1750550399@be-fast.be
SUMMARY:SwimKap Triatlon | Kapelle-Op-Den-Bos
DESCRIPTION:Nick V
URL:https://be-fast.be/event/swimkap-triatlon-kapelle-op-den-bos/
CATEGORIES:Kwart Triatlon
END:VEVENT
BEGIN:VEVENT
DTSTART;VALUE=DATE:20250621
DTEND;VALUE=DATE:20250622
DTSTAMP:20260424T103020
CREATED:20250312T122916Z
LAST-MODIFIED:20250312T123028Z
UID:2081-1750464000-1750550399@be-fast.be
SUMMARY:Triatlon Brugge
DESCRIPTION:Guy W
URL:https://be-fast.be/event/triatlon-brugge/
CATEGORIES:Kwart Triatlon
END:VEVENT
BEGIN:VEVENT
DTSTART;VALUE=DATE:20250621
DTEND;VALUE=DATE:20250622
DTSTAMP:20260424T103020
CREATED:20250203T145346Z
LAST-MODIFIED:20250610T150213Z
UID:1978-1750464000-1750550399@be-fast.be
SUMMARY:Triatlon Oud Gastel
DESCRIPTION:750 zwemmen\n75 fietsen\n7.5 lopen \nJan H
URL:https://be-fast.be/event/triatlon-oud-gastel/
CATEGORIES:Triatlon andere
END:VEVENT
BEGIN:VEVENT
DTSTART;VALUE=DATE:20250614
DTEND;VALUE=DATE:20250615
DTSTAMP:20260424T103020
CREATED:20250203T150226Z
LAST-MODIFIED:20250224T105239Z
UID:1988-1749859200-1749945599@be-fast.be
SUMMARY:Iron Bikes Triatlon van Willebroek
DESCRIPTION:Jan V\nDennis
URL:https://be-fast.be/event/iron-bikes-triatlon-van-willebroek/
CATEGORIES:Half distance triathlon
END:VEVENT
BEGIN:VEVENT
DTSTART;VALUE=DATE:20250609
DTEND;VALUE=DATE:20250610
DTSTAMP:20260424T103020
CREATED:20250312T122718Z
LAST-MODIFIED:20250312T122718Z
UID:2079-1749427200-1749513599@be-fast.be
SUMMARY:Triatlon Eindhoven
DESCRIPTION:
URL:https://be-fast.be/event/triatlon-eindhoven/
CATEGORIES:Kwart Triatlon,Sprint Triatlon
END:VEVENT
BEGIN:VEVENT
DTSTART;VALUE=DATE:20250608
DTEND;VALUE=DATE:20250609
DTSTAMP:20260424T103020
CREATED:20250312T111312Z
LAST-MODIFIED:20250312T111312Z
UID:2038-1749340800-1749427199@be-fast.be
SUMMARY:Kallemoeietriatlon | Triatlon Vlaanderen Gemeente Beernem
DESCRIPTION:Nick
URL:https://be-fast.be/event/kallemoeietriatlon-triatlon-vlaanderen-gemeente-beernem/
CATEGORIES:Kwart Triatlon
END:VEVENT
END:VCALENDAR