BEGIN:VCALENDAR
VERSION:2.0
PRODID:-//Be Fast Triatlon Club - ECPv6.15.20//NONSGML v1.0//EN
CALSCALE:GREGORIAN
METHOD:PUBLISH
X-ORIGINAL-URL:https://be-fast.be
X-WR-CALDESC:Events for Be Fast Triatlon Club
REFRESH-INTERVAL;VALUE=DURATION:PT1H
X-Robots-Tag:noindex
X-PUBLISHED-TTL:PT1H
BEGIN:VTIMEZONE
TZID:Europe/Brussels
BEGIN:DAYLIGHT
TZOFFSETFROM:+0100
TZOFFSETTO:+0200
TZNAME:CEST
DTSTART:20240331T010000
END:DAYLIGHT
BEGIN:STANDARD
TZOFFSETFROM:+0200
TZOFFSETTO:+0100
TZNAME:CET
DTSTART:20241027T010000
END:STANDARD
BEGIN:DAYLIGHT
TZOFFSETFROM:+0100
TZOFFSETTO:+0200
TZNAME:CEST
DTSTART:20250330T010000
END:DAYLIGHT
BEGIN:STANDARD
TZOFFSETFROM:+0200
TZOFFSETTO:+0100
TZNAME:CET
DTSTART:20251026T010000
END:STANDARD
BEGIN:DAYLIGHT
TZOFFSETFROM:+0100
TZOFFSETTO:+0200
TZNAME:CEST
DTSTART:20260329T010000
END:DAYLIGHT
BEGIN:STANDARD
TZOFFSETFROM:+0200
TZOFFSETTO:+0100
TZNAME:CET
DTSTART:20261025T010000
END:STANDARD
END:VTIMEZONE
BEGIN:VEVENT
DTSTART;VALUE=DATE:20250906
DTEND;VALUE=DATE:20250907
DTSTAMP:20260424T085853
CREATED:20250312T124335Z
LAST-MODIFIED:20250814T110846Z
UID:2098-1757116800-1757203199@be-fast.be
SUMMARY:GEANNULEERD: Cross Triathlon Het Hulsbeek in Oldenzaal
DESCRIPTION:Guy W
URL:https://be-fast.be/event/2098/
CATEGORIES:Kwart Triatlon,Sprint Triatlon
END:VEVENT
BEGIN:VEVENT
DTSTART;VALUE=DATE:20250906
DTEND;VALUE=DATE:20250907
DTSTAMP:20260424T085853
CREATED:20250525T144415Z
LAST-MODIFIED:20250814T105426Z
UID:2160-1757116800-1757203199@be-fast.be
SUMMARY:Go Triatlon Herkingen 1/4 en 1/8
DESCRIPTION:Patricia Kort (1/8)\nGuy W (1/4)
URL:https://be-fast.be/event/go-triatlon-herkingen-1-4-en-1-8/
CATEGORIES:Kwart Triatlon,Sprint Triatlon
END:VEVENT
BEGIN:VEVENT
DTSTART;VALUE=DATE:20250907
DTEND;VALUE=DATE:20250908
DTSTAMP:20260424T085853
CREATED:20250610T144318Z
LAST-MODIFIED:20250610T144355Z
UID:2167-1757203200-1757289599@be-fast.be
SUMMARY:High Tech Triatlon Eindhoven 1/8
DESCRIPTION:Guy Wydouw
URL:https://be-fast.be/event/high-tech-triatlon-eindhoven-1-8/
CATEGORIES:Sprint Triatlon
END:VEVENT
BEGIN:VEVENT
DTSTART;VALUE=DATE:20250913
DTEND;VALUE=DATE:20250914
DTSTAMP:20260424T085853
CREATED:20250312T124505Z
LAST-MODIFIED:20250627T073057Z
UID:2100-1757721600-1757807999@be-fast.be
SUMMARY:Triatlon Hofstade
DESCRIPTION:Guy W\nEllen K
URL:https://be-fast.be/event/triatlon-hofstade/
CATEGORIES:Kwart Triatlon,Sprint Triatlon
END:VEVENT
BEGIN:VEVENT
DTSTART;VALUE=DATE:20250920
DTEND;VALUE=DATE:20250921
DTSTAMP:20260424T085853
CREATED:20250525T144617Z
LAST-MODIFIED:20250628T123344Z
UID:2163-1758326400-1758412799@be-fast.be
SUMMARY:Go Triathlon Zierikzee 1/4 en 1/8
DESCRIPTION:Patricia Kort (1/8)\nKelly W (1/4)
URL:https://be-fast.be/event/go-triathlon-zierikzee-1-4-en-1-8/
CATEGORIES:Kwart Triatlon,Sprint Triatlon
END:VEVENT
BEGIN:VEVENT
DTSTART;VALUE=DATE:20250921
DTEND;VALUE=DATE:20250922
DTSTAMP:20260424T085853
CREATED:20250312T124647Z
LAST-MODIFIED:20250312T124647Z
UID:2102-1758412800-1758499199@be-fast.be
SUMMARY:Utrechtse Heuvelrug Triathlon
DESCRIPTION:
URL:https://be-fast.be/event/utrechtse-heuvelrug-triathlon/
CATEGORIES:Kwart Triatlon,Sprint Triatlon
END:VEVENT
BEGIN:VEVENT
DTSTART;VALUE=DATE:20250928
DTEND;VALUE=DATE:20250929
DTSTAMP:20260424T085853
CREATED:20250805T141726Z
LAST-MODIFIED:20250828T104013Z
UID:2248-1759017600-1759103999@be-fast.be
SUMMARY:Triatlon Turnhout
DESCRIPTION:Guy W (1/8)\nDennis F (1/4)
URL:https://be-fast.be/event/triatlon-turnhout-1-8/
CATEGORIES:Kwart Triatlon,Sprint Triatlon
END:VEVENT
END:VCALENDAR