BEGIN:VCALENDAR
VERSION:2.0
PRODID:-//Be Fast Triatlon Club - ECPv6.15.20//NONSGML v1.0//EN
CALSCALE:GREGORIAN
METHOD:PUBLISH
X-ORIGINAL-URL:https://be-fast.be
X-WR-CALDESC:Events for Be Fast Triatlon Club
REFRESH-INTERVAL;VALUE=DURATION:PT1H
X-Robots-Tag:noindex
X-PUBLISHED-TTL:PT1H
BEGIN:VTIMEZONE
TZID:Europe/Brussels
BEGIN:DAYLIGHT
TZOFFSETFROM:+0100
TZOFFSETTO:+0200
TZNAME:CEST
DTSTART:20250330T010000
END:DAYLIGHT
BEGIN:STANDARD
TZOFFSETFROM:+0200
TZOFFSETTO:+0100
TZNAME:CET
DTSTART:20251026T010000
END:STANDARD
BEGIN:DAYLIGHT
TZOFFSETFROM:+0100
TZOFFSETTO:+0200
TZNAME:CEST
DTSTART:20260329T010000
END:DAYLIGHT
BEGIN:STANDARD
TZOFFSETFROM:+0200
TZOFFSETTO:+0100
TZNAME:CET
DTSTART:20261025T010000
END:STANDARD
BEGIN:DAYLIGHT
TZOFFSETFROM:+0100
TZOFFSETTO:+0200
TZNAME:CEST
DTSTART:20270328T010000
END:DAYLIGHT
BEGIN:STANDARD
TZOFFSETFROM:+0200
TZOFFSETTO:+0100
TZNAME:CET
DTSTART:20271031T010000
END:STANDARD
END:VTIMEZONE
BEGIN:VEVENT
DTSTART;VALUE=DATE:20260509
DTEND;VALUE=DATE:20260510
DTSTAMP:20260423T193541
CREATED:20260203T112458Z
LAST-MODIFIED:20260203T112458Z
UID:2490-1778284800-1778371199@be-fast.be
SUMMARY:Sprint Triatlon Zwevegem
DESCRIPTION:Guy W
URL:https://be-fast.be/event/sprint-triatlon-zwevegem/
CATEGORIES:Sprint Triatlon
END:VEVENT
BEGIN:VEVENT
DTSTART;VALUE=DATE:20260531
DTEND;VALUE=DATE:20260601
DTSTAMP:20260423T193541
CREATED:20260203T112606Z
LAST-MODIFIED:20260203T112606Z
UID:2493-1780185600-1780271999@be-fast.be
SUMMARY:HB Accountants Triatlon Turnhout
DESCRIPTION:Guy W (Sprint)
URL:https://be-fast.be/event/hb-accountants-triatlon-turnhout/
CATEGORIES:Sprint Triatlon
END:VEVENT
END:VCALENDAR