BEGIN:VCALENDAR
VERSION:2.0
PRODID:-//Be Fast Triatlon Club - ECPv6.15.20//NONSGML v1.0//EN
CALSCALE:GREGORIAN
METHOD:PUBLISH
X-ORIGINAL-URL:https://be-fast.be
X-WR-CALDESC:Events for Be Fast Triatlon Club
REFRESH-INTERVAL;VALUE=DURATION:PT1H
X-Robots-Tag:noindex
X-PUBLISHED-TTL:PT1H
BEGIN:VTIMEZONE
TZID:Europe/Brussels
BEGIN:DAYLIGHT
TZOFFSETFROM:+0100
TZOFFSETTO:+0200
TZNAME:CEST
DTSTART:20240331T010000
END:DAYLIGHT
BEGIN:STANDARD
TZOFFSETFROM:+0200
TZOFFSETTO:+0100
TZNAME:CET
DTSTART:20241027T010000
END:STANDARD
BEGIN:DAYLIGHT
TZOFFSETFROM:+0100
TZOFFSETTO:+0200
TZNAME:CEST
DTSTART:20250330T010000
END:DAYLIGHT
BEGIN:STANDARD
TZOFFSETFROM:+0200
TZOFFSETTO:+0100
TZNAME:CET
DTSTART:20251026T010000
END:STANDARD
BEGIN:DAYLIGHT
TZOFFSETFROM:+0100
TZOFFSETTO:+0200
TZNAME:CEST
DTSTART:20260329T010000
END:DAYLIGHT
BEGIN:STANDARD
TZOFFSETFROM:+0200
TZOFFSETTO:+0100
TZNAME:CET
DTSTART:20261025T010000
END:STANDARD
BEGIN:DAYLIGHT
TZOFFSETFROM:+0100
TZOFFSETTO:+0200
TZNAME:CEST
DTSTART:20270328T010000
END:DAYLIGHT
BEGIN:STANDARD
TZOFFSETFROM:+0200
TZOFFSETTO:+0100
TZNAME:CET
DTSTART:20271031T010000
END:STANDARD
END:VTIMEZONE
BEGIN:VEVENT
DTSTART;VALUE=DATE:20260315
DTEND;VALUE=DATE:20260316
DTSTAMP:20260424T150751
CREATED:20260203T112315Z
LAST-MODIFIED:20260203T112315Z
UID:2487-1773532800-1773619199@be-fast.be
SUMMARY:DENDERMONDE LOOPT
DESCRIPTION:Guy W
URL:https://be-fast.be/event/dendermonde-loopt/
CATEGORIES:Stratenloop
END:VEVENT
BEGIN:VEVENT
DTSTART;VALUE=DATE:20260228
DTEND;VALUE=DATE:20260301
DTSTAMP:20260424T150751
CREATED:20260203T111929Z
LAST-MODIFIED:20260203T111929Z
UID:2481-1772236800-1772323199@be-fast.be
SUMMARY:Marathon van Kruibeke
DESCRIPTION:Guy W (1/4)
URL:https://be-fast.be/event/marathon-van-kruibeke/
CATEGORIES:Stratenloop
END:VEVENT
BEGIN:VEVENT
DTSTART;VALUE=DATE:20251101
DTEND;VALUE=DATE:20251102
DTSTAMP:20260424T150751
CREATED:20250805T141448Z
LAST-MODIFIED:20250929T100620Z
UID:2242-1761955200-1762041599@be-fast.be
SUMMARY:Halve marathon Donkmeer
DESCRIPTION:Guy W\nAnkie Peeters (10k)
URL:https://be-fast.be/event/halve-marathon-donkmeer/
CATEGORIES:Halve Marathon,Stratenloop
END:VEVENT
BEGIN:VEVENT
DTSTART;VALUE=DATE:20251019
DTEND;VALUE=DATE:20251020
DTSTAMP:20260424T150751
CREATED:20250203T145804Z
LAST-MODIFIED:20251016T121032Z
UID:1981-1760832000-1760918399@be-fast.be
SUMMARY:Antwerp Marathon
DESCRIPTION:Guy\, Ivan\, Lisa\, Joeri P\, Kjell\, Patje\, Dennis\, Bram P\, Thomas T
URL:https://be-fast.be/event/antwerp-marathon/
CATEGORIES:Stratenloop
END:VEVENT
BEGIN:VEVENT
DTSTART;VALUE=DATE:20250914
DTEND;VALUE=DATE:20250915
DTSTAMP:20260424T150751
CREATED:20250805T141831Z
LAST-MODIFIED:20250805T141831Z
UID:2251-1757808000-1757894399@be-fast.be
SUMMARY:Bollekensloop (Antwerpen) 10km
DESCRIPTION:Guy W
URL:https://be-fast.be/event/bollekensloop-antwerpen-10km/
CATEGORIES:Stratenloop
END:VEVENT
BEGIN:VEVENT
DTSTART;VALUE=DATE:20250808
DTEND;VALUE=DATE:20250809
DTSTAMP:20260424T150751
CREATED:20250805T141313Z
LAST-MODIFIED:20250805T141313Z
UID:2239-1754611200-1754697599@be-fast.be
SUMMARY:La Gileppe Trophy jogging 7.5km
DESCRIPTION:Guy W
URL:https://be-fast.be/event/la-gileppe-trophy-jogging-7-5km/
CATEGORIES:Stratenloop
END:VEVENT
BEGIN:VEVENT
DTSTART;VALUE=DATE:20250504
DTEND;VALUE=DATE:20250505
DTSTAMP:20260424T150751
CREATED:20250312T121305Z
LAST-MODIFIED:20250312T121305Z
UID:2063-1746316800-1746403199@be-fast.be
SUMMARY:Kalmthoutse Stratenloop
DESCRIPTION:
URL:https://be-fast.be/event/kalmthoutse-stratenloop/
CATEGORIES:Stratenloop
END:VEVENT
BEGIN:VEVENT
DTSTART;VALUE=DATE:20250427
DTEND;VALUE=DATE:20250428
DTSTAMP:20260424T150751
CREATED:20250203T144818Z
LAST-MODIFIED:20250312T120940Z
UID:1976-1745712000-1745798399@be-fast.be
SUMMARY:Antwerp 10 Miles
DESCRIPTION:Guy W\, Carl\, Joris L\, Patje\,
URL:https://be-fast.be/event/antwerp-10-miles/
CATEGORIES:Stratenloop
END:VEVENT
BEGIN:VEVENT
DTSTART;VALUE=DATE:20250413
DTEND;VALUE=DATE:20250415
DTSTAMP:20260424T150751
CREATED:20250312T120708Z
LAST-MODIFIED:20250312T120708Z
UID:2057-1744502400-1744675199@be-fast.be
SUMMARY:European Running Championships
DESCRIPTION:Guy W\, Stefan
URL:https://be-fast.be/event/european-running-championships/
CATEGORIES:Halve Marathon,Marathon,Stratenloop
END:VEVENT
BEGIN:VEVENT
DTSTART;VALUE=DATE:20250316
DTEND;VALUE=DATE:20250317
DTSTAMP:20260424T150751
CREATED:20250312T115924Z
LAST-MODIFIED:20250312T115924Z
UID:2046-1742083200-1742169599@be-fast.be
SUMMARY:Wommelgem 10 Mijl
DESCRIPTION:Guy W
URL:https://be-fast.be/event/wommelgem-10-mijl/
CATEGORIES:Stratenloop
END:VEVENT
END:VCALENDAR