BEGIN:VCALENDAR
VERSION:2.0
PRODID:-//Be Fast Triatlon Club - ECPv6.15.20//NONSGML v1.0//EN
CALSCALE:GREGORIAN
METHOD:PUBLISH
X-ORIGINAL-URL:https://be-fast.be
X-WR-CALDESC:Events for Be Fast Triatlon Club
REFRESH-INTERVAL;VALUE=DURATION:PT1H
X-Robots-Tag:noindex
X-PUBLISHED-TTL:PT1H
BEGIN:VTIMEZONE
TZID:Europe/Brussels
BEGIN:DAYLIGHT
TZOFFSETFROM:+0100
TZOFFSETTO:+0200
TZNAME:CEST
DTSTART:20240331T010000
END:DAYLIGHT
BEGIN:STANDARD
TZOFFSETFROM:+0200
TZOFFSETTO:+0100
TZNAME:CET
DTSTART:20241027T010000
END:STANDARD
BEGIN:DAYLIGHT
TZOFFSETFROM:+0100
TZOFFSETTO:+0200
TZNAME:CEST
DTSTART:20250330T010000
END:DAYLIGHT
BEGIN:STANDARD
TZOFFSETFROM:+0200
TZOFFSETTO:+0100
TZNAME:CET
DTSTART:20251026T010000
END:STANDARD
BEGIN:DAYLIGHT
TZOFFSETFROM:+0100
TZOFFSETTO:+0200
TZNAME:CEST
DTSTART:20260329T010000
END:DAYLIGHT
BEGIN:STANDARD
TZOFFSETFROM:+0200
TZOFFSETTO:+0100
TZNAME:CET
DTSTART:20261025T010000
END:STANDARD
BEGIN:DAYLIGHT
TZOFFSETFROM:+0100
TZOFFSETTO:+0200
TZNAME:CEST
DTSTART:20270328T010000
END:DAYLIGHT
BEGIN:STANDARD
TZOFFSETFROM:+0200
TZOFFSETTO:+0100
TZNAME:CET
DTSTART:20271031T010000
END:STANDARD
END:VTIMEZONE
BEGIN:VEVENT
DTSTART;VALUE=DATE:20260328
DTEND;VALUE=DATE:20260329
DTSTAMP:20260423T230701
CREATED:20260107T073106Z
LAST-MODIFIED:20260107T073106Z
UID:2464-1774656000-1774742399@be-fast.be
SUMMARY:Creted De Spa
DESCRIPTION:Carl\nTabitha\nPatje
URL:https://be-fast.be/event/creted-de-spa/
CATEGORIES:Trail
END:VEVENT
BEGIN:VEVENT
DTSTART;VALUE=DATE:20260118
DTEND;VALUE=DATE:20260119
DTSTAMP:20260423T230701
CREATED:20251228T173113Z
LAST-MODIFIED:20251228T173113Z
UID:2401-1768694400-1768780799@be-fast.be
SUMMARY:TRAIL DE SCHORRE
DESCRIPTION:Bram P
URL:https://be-fast.be/event/trail-de-schorre/
CATEGORIES:Trail
END:VEVENT
BEGIN:VEVENT
DTSTART;VALUE=DATE:20251214
DTEND;VALUE=DATE:20251215
DTSTAMP:20260423T230701
CREATED:20251028T142022Z
LAST-MODIFIED:20251028T142022Z
UID:2364-1765670400-1765756799@be-fast.be
SUMMARY:Trailrun Kalmthoutse Heide
DESCRIPTION:Kelly W 12.5\nCarl C 12.5
URL:https://be-fast.be/event/trailrun-kalmthoutse-heide/
CATEGORIES:Trail
END:VEVENT
BEGIN:VEVENT
DTSTART;VALUE=DATE:20251207
DTEND;VALUE=DATE:20251208
DTSTAMP:20260423T230701
CREATED:20250805T141956Z
LAST-MODIFIED:20251028T142207Z
UID:2254-1765065600-1765151999@be-fast.be
SUMMARY:Terhills Trail
DESCRIPTION:Bram P (20km)\nKelly W (20km)
URL:https://be-fast.be/event/terhills-trail/
CATEGORIES:Trail
END:VEVENT
BEGIN:VEVENT
DTSTART;VALUE=DATE:20251116
DTEND;VALUE=DATE:20251117
DTSTAMP:20260423T230701
CREATED:20251007T152014Z
LAST-MODIFIED:20251016T121133Z
UID:2315-1763251200-1763337599@be-fast.be
SUMMARY:Alfabear trail - 24km.
DESCRIPTION:Daniel Rodrigues das Neves\nThomas T
URL:https://be-fast.be/event/alfabear-trail-24km/
CATEGORIES:Trail
END:VEVENT
BEGIN:VEVENT
DTSTART;VALUE=DATE:20251111
DTEND;VALUE=DATE:20251112
DTSTAMP:20260423T230701
CREATED:20250814T111112Z
LAST-MODIFIED:20250814T111112Z
UID:2280-1762819200-1762905599@be-fast.be
SUMMARY:dolce-la-hulpe-trail
DESCRIPTION:Ronny T (20k)
URL:https://be-fast.be/event/dolce-la-hulpe-trail/
CATEGORIES:Trail
END:VEVENT
BEGIN:VEVENT
DTSTART;VALUE=DATE:20250815
DTEND;VALUE=DATE:20250816
DTSTAMP:20260423T230701
CREATED:20250814T110722Z
LAST-MODIFIED:20250814T110722Z
UID:2276-1755216000-1755302399@be-fast.be
SUMMARY:Trailrun Lilse Bergen
DESCRIPTION:Guy W 15k
URL:https://be-fast.be/event/trailrun-lilse-bergen/
CATEGORIES:Trail
END:VEVENT
BEGIN:VEVENT
DTSTART;VALUE=DATE:20250223
DTEND;VALUE=DATE:20250224
DTSTAMP:20260423T230701
CREATED:20250203T142816Z
LAST-MODIFIED:20250203T144321Z
UID:1970-1740268800-1740355199@be-fast.be
SUMMARY:Nationaal Park Marathon Hoge Kempen
DESCRIPTION:21k: Carl\, Ellen\, Marc H
URL:https://be-fast.be/event/nationaal-park-marathon-hoge-kempen/
CATEGORIES:Trail
END:VEVENT
END:VCALENDAR