BEGIN:VCALENDAR
VERSION:2.0
PRODID:-//Be Fast Triatlon Club - ECPv6.15.20//NONSGML v1.0//EN
CALSCALE:GREGORIAN
METHOD:PUBLISH
X-ORIGINAL-URL:https://be-fast.be
X-WR-CALDESC:Events for Be Fast Triatlon Club
REFRESH-INTERVAL;VALUE=DURATION:PT1H
X-Robots-Tag:noindex
X-PUBLISHED-TTL:PT1H
BEGIN:VTIMEZONE
TZID:Europe/Brussels
BEGIN:DAYLIGHT
TZOFFSETFROM:+0100
TZOFFSETTO:+0200
TZNAME:CEST
DTSTART:20250330T010000
END:DAYLIGHT
BEGIN:STANDARD
TZOFFSETFROM:+0200
TZOFFSETTO:+0100
TZNAME:CET
DTSTART:20251026T010000
END:STANDARD
BEGIN:DAYLIGHT
TZOFFSETFROM:+0100
TZOFFSETTO:+0200
TZNAME:CEST
DTSTART:20260329T010000
END:DAYLIGHT
BEGIN:STANDARD
TZOFFSETFROM:+0200
TZOFFSETTO:+0100
TZNAME:CET
DTSTART:20261025T010000
END:STANDARD
BEGIN:DAYLIGHT
TZOFFSETFROM:+0100
TZOFFSETTO:+0200
TZNAME:CEST
DTSTART:20270328T010000
END:DAYLIGHT
BEGIN:STANDARD
TZOFFSETFROM:+0200
TZOFFSETTO:+0100
TZNAME:CET
DTSTART:20271031T010000
END:STANDARD
END:VTIMEZONE
BEGIN:VEVENT
DTSTART;VALUE=DATE:20260418
DTEND;VALUE=DATE:20260419
DTSTAMP:20260424T021831
CREATED:20260105T162206Z
LAST-MODIFIED:20260105T162206Z
UID:2448-1776470400-1776556799@be-fast.be
SUMMARY:zwemloop Hulst
DESCRIPTION:Bram P
URL:https://be-fast.be/event/zwemloop-hulst/
CATEGORIES:Zwemloop
END:VEVENT
BEGIN:VEVENT
DTSTART;VALUE=DATE:20260412
DTEND;VALUE=DATE:20260413
DTSTAMP:20260424T021831
CREATED:20260105T162412Z
LAST-MODIFIED:20260105T162412Z
UID:2451-1775952000-1776038399@be-fast.be
SUMMARY:Zwemloop Breda
DESCRIPTION:Bram P
URL:https://be-fast.be/event/zwemloop-breda/
CATEGORIES:Zwemloop
END:VEVENT
BEGIN:VEVENT
DTSTART;VALUE=DATE:20260322
DTEND;VALUE=DATE:20260323
DTSTAMP:20260424T021831
CREATED:20260105T162526Z
LAST-MODIFIED:20260105T162526Z
UID:2454-1774137600-1774223999@be-fast.be
SUMMARY:zwemloop Rucphen
DESCRIPTION:Bram P
URL:https://be-fast.be/event/zwemloop-rucphen/
CATEGORIES:Zwemloop
END:VEVENT
BEGIN:VEVENT
DTSTART;VALUE=DATE:20260228
DTEND;VALUE=DATE:20260301
DTSTAMP:20260424T021831
CREATED:20260105T162638Z
LAST-MODIFIED:20260105T162638Z
UID:2457-1772236800-1772323199@be-fast.be
SUMMARY:Zwemloop Vlissingen
DESCRIPTION:Bram P
URL:https://be-fast.be/event/zwemloop-vlissingen/
CATEGORIES:Zwemloop
END:VEVENT
END:VCALENDAR